Package: hpar Version: 1.50.0 Command: /home/biocbuild/R/R/bin/R CMD INSTALL hpar StartedAt: 2025-10-13 20:41:44 -0000 (Mon, 13 Oct 2025) EndedAt: 2025-10-13 20:42:06 -0000 (Mon, 13 Oct 2025) EllapsedTime: 21.5 seconds RetCode: 0 Status: OK