Package: hpar Version: 1.50.0 Command: /home/biocbuild/R/R/bin/R CMD check --install=check:hpar.install-out.txt --library=/home/biocbuild/R/R/site-library --no-vignettes --timings hpar_1.50.0.tar.gz StartedAt: 2025-10-14 10:12:53 -0000 (Tue, 14 Oct 2025) EndedAt: 2025-10-14 10:15:09 -0000 (Tue, 14 Oct 2025) EllapsedTime: 136.1 seconds RetCode: 0 Status: OK CheckDir: hpar.Rcheck Warnings: 0