Package: hpar Version: 1.50.0 Command: /Library/Frameworks/R.framework/Resources/bin/R CMD INSTALL hpar StartedAt: 2025-10-13 15:49:32 -0400 (Mon, 13 Oct 2025) EndedAt: 2025-10-13 15:49:48 -0400 (Mon, 13 Oct 2025) EllapsedTime: 16.1 seconds RetCode: 0 Status: OK