Package: hpar Version: 1.50.0 Command: /Library/Frameworks/R.framework/Resources/bin/R CMD build --keep-empty-dirs --no-resave-data hpar StartedAt: 2025-10-14 02:24:21 -0400 (Tue, 14 Oct 2025) EndedAt: 2025-10-14 02:25:08 -0400 (Tue, 14 Oct 2025) EllapsedTime: 47.3 seconds RetCode: 0 Status: OK PackageFile: hpar_1.50.0.tar.gz PackageFileSize: 885.3 KiB