Package: hmdbQuery Version: 1.28.0 Command: /Library/Frameworks/R.framework/Resources/bin/R CMD INSTALL hmdbQuery StartedAt: 2025-10-13 15:23:12 -0400 (Mon, 13 Oct 2025) EndedAt: 2025-10-13 15:23:29 -0400 (Mon, 13 Oct 2025) EllapsedTime: 16.9 seconds RetCode: 0 Status: OK