Package: hipathia Version: 3.8.0 Command: /home/biocbuild/bbs-3.21-bioc/R/bin/R CMD check --install=check:hipathia.install-out.txt --library=/home/biocbuild/bbs-3.21-bioc/R/site-library --timings hipathia_3.8.0.tar.gz StartedAt: 2025-10-09 00:00:16 -0400 (Thu, 09 Oct 2025) EndedAt: 2025-10-09 00:19:50 -0400 (Thu, 09 Oct 2025) EllapsedTime: 1174.5 seconds RetCode: 0 Status: OK CheckDir: hipathia.Rcheck Warnings: 0