Package: hipathia Version: 3.8.0 Command: rm -rf hipathia.buildbin-libdir && mkdir hipathia.buildbin-libdir && /Users/biocbuild/BBS/utils/build-universal.sh hipathia_3.8.0.tar.gz /Library/Frameworks/R.framework/Resources/bin/R hipathia.buildbin-libdir StartedAt: 2025-04-22 00:49:55 -0400 (Tue, 22 Apr 2025) EndedAt: 2025-04-22 00:50:49 -0400 (Tue, 22 Apr 2025) EllapsedTime: 53.4 seconds RetCode: 0 Status: OK PackageFile: hipathia_3.8.0.tgz PackageFileSize: 7.651 MiB