Package: hipathia Version: 3.8.0 Command: /home/biocbuild/R/R/bin/R CMD INSTALL hipathia StartedAt: 2025-10-13 21:01:27 -0000 (Mon, 13 Oct 2025) EndedAt: 2025-10-13 21:02:19 -0000 (Mon, 13 Oct 2025) EllapsedTime: 52.5 seconds RetCode: 0 Status: OK