Package: hipathia Version: 3.8.0 Command: /home/biocbuild/R/R/bin/R CMD build --keep-empty-dirs --no-resave-data hipathia StartedAt: 2025-10-14 01:40:39 -0000 (Tue, 14 Oct 2025) EndedAt: 2025-10-14 01:43:23 -0000 (Tue, 14 Oct 2025) EllapsedTime: 164.1 seconds RetCode: 1 Status: ERROR PackageFile: None PackageFileSize: NA