Package: hierinf Version: 1.26.0 Command: rm -rf hierinf.buildbin-libdir && mkdir hierinf.buildbin-libdir && E:\biocbuild\bbs-3.21-bioc\R\bin\R.exe CMD INSTALL --build --library=hierinf.buildbin-libdir hierinf_1.26.0.tar.gz StartedAt: 2025-08-15 09:29:19 -0400 (Fri, 15 Aug 2025) EndedAt: 2025-08-15 09:29:27 -0400 (Fri, 15 Aug 2025) EllapsedTime: 8.0 seconds RetCode: 0 Status: OK PackageFile: hierinf_1.26.0.zip PackageFileSize: 500.6 KiB