Package: hierGWAS Version: 1.38.0 Command: /Library/Frameworks/R.framework/Resources/bin/R CMD INSTALL hierGWAS StartedAt: 2025-10-13 15:11:25 -0400 (Mon, 13 Oct 2025) EndedAt: 2025-10-13 15:12:10 -0400 (Mon, 13 Oct 2025) EllapsedTime: 44.8 seconds RetCode: 0 Status: OK