Package: hierGWAS Version: 1.38.0 Command: /Library/Frameworks/R.framework/Resources/bin/R CMD build --keep-empty-dirs --no-resave-data hierGWAS StartedAt: 2025-10-13 19:44:27 -0400 (Mon, 13 Oct 2025) EndedAt: 2025-10-13 19:46:56 -0400 (Mon, 13 Oct 2025) EllapsedTime: 149.2 seconds RetCode: 0 Status: OK PackageFile: hierGWAS_1.38.0.tar.gz PackageFileSize: 566.7 KiB