Package: hiAnnotator Version: 1.42.0 Command: rm -rf hiAnnotator.buildbin-libdir && mkdir hiAnnotator.buildbin-libdir && E:\biocbuild\bbs-3.21-bioc\R\bin\R.exe CMD INSTALL --build --library=hiAnnotator.buildbin-libdir hiAnnotator_1.42.0.tar.gz StartedAt: 2025-08-15 09:28:32 -0400 (Fri, 15 Aug 2025) EndedAt: 2025-08-15 09:29:28 -0400 (Fri, 15 Aug 2025) EllapsedTime: 56.4 seconds RetCode: 0 Status: OK PackageFile: hiAnnotator_1.42.0.zip PackageFileSize: 765 KiB