Package: hiAnnotator Version: 1.42.0 Command: /home/biocbuild/bbs-3.21-bioc/R/bin/R CMD check --install=check:hiAnnotator.install-out.txt --library=/home/biocbuild/bbs-3.21-bioc/R/site-library --timings hiAnnotator_1.42.0.tar.gz StartedAt: 2025-10-02 00:00:34 -0400 (Thu, 02 Oct 2025) EndedAt: 2025-10-02 00:05:45 -0400 (Thu, 02 Oct 2025) EllapsedTime: 310.4 seconds RetCode: 0 Status: OK CheckDir: hiAnnotator.Rcheck Warnings: 0