Package: hiAnnotator Version: 1.42.0 Command: /home/biocbuild/bbs-3.21-bioc/R/bin/R CMD build --keep-empty-dirs --no-resave-data hiAnnotator StartedAt: 2025-10-01 18:01:31 -0400 (Wed, 01 Oct 2025) EndedAt: 2025-10-01 18:02:31 -0400 (Wed, 01 Oct 2025) EllapsedTime: 60.1 seconds RetCode: 0 Status: OK PackageFile: hiAnnotator_1.42.0.tar.gz PackageFileSize: 773.8 KiB