Package: hiAnnotator Version: 1.42.0 Command: /home/biocbuild/R/R/bin/R CMD INSTALL hiAnnotator StartedAt: 2025-09-29 20:43:46 -0000 (Mon, 29 Sep 2025) EndedAt: 2025-09-29 20:44:34 -0000 (Mon, 29 Sep 2025) EllapsedTime: 48.2 seconds RetCode: 0 Status: OK