Package: hiAnnotator Version: 1.42.0 Command: /home/biocbuild/R/R/bin/R CMD build --keep-empty-dirs --no-resave-data hiAnnotator StartedAt: 2025-09-30 02:15:28 -0000 (Tue, 30 Sep 2025) EndedAt: 2025-09-30 02:16:44 -0000 (Tue, 30 Sep 2025) EllapsedTime: 76.0 seconds RetCode: 0 Status: OK PackageFile: hiAnnotator_1.42.0.tar.gz PackageFileSize: 757.5 KiB