Package: hiAnnotator Version: 1.42.0 Command: /Library/Frameworks/R.framework/Resources/bin/R CMD build --keep-empty-dirs --no-resave-data hiAnnotator StartedAt: 2025-09-30 02:14:38 -0400 (Tue, 30 Sep 2025) EndedAt: 2025-09-30 02:15:59 -0400 (Tue, 30 Sep 2025) EllapsedTime: 81.2 seconds RetCode: 0 Status: OK PackageFile: hiAnnotator_1.42.0.tar.gz PackageFileSize: 733.8 KiB