Package: hermes Version: 1.12.1 Command: E:\biocbuild\bbs-3.21-bioc\R\bin\R.exe CMD INSTALL hermes StartedAt: 2025-08-14 16:12:52 -0400 (Thu, 14 Aug 2025) EndedAt: 2025-08-14 16:14:40 -0400 (Thu, 14 Aug 2025) EllapsedTime: 107.3 seconds RetCode: 0 Status: OK