Package: hermes Version: 1.12.1 Command: rm -rf hermes.buildbin-libdir && mkdir hermes.buildbin-libdir && E:\biocbuild\bbs-3.21-bioc\R\bin\R.exe CMD INSTALL --build --library=hermes.buildbin-libdir hermes_1.12.1.tar.gz StartedAt: 2025-08-15 09:28:26 -0400 (Fri, 15 Aug 2025) EndedAt: 2025-08-15 09:29:45 -0400 (Fri, 15 Aug 2025) EllapsedTime: 78.5 seconds RetCode: 0 Status: OK PackageFile: hermes_1.12.1.zip PackageFileSize: 3.453 MiB