Package: hermes Version: 1.12.1 Command: /home/biocbuild/bbs-3.21-bioc/R/bin/R CMD build --keep-empty-dirs --no-resave-data hermes StartedAt: 2025-10-15 17:56:50 -0400 (Wed, 15 Oct 2025) EndedAt: 2025-10-15 17:58:32 -0400 (Wed, 15 Oct 2025) EllapsedTime: 102.1 seconds RetCode: 0 Status: OK PackageFile: hermes_1.12.1.tar.gz PackageFileSize: 4.281 MiB