Package: hermes Version: 1.12.1 Command: /Library/Frameworks/R.framework/Resources/bin/R CMD build --keep-empty-dirs --no-resave-data hermes StartedAt: 2025-10-13 19:41:52 -0400 (Mon, 13 Oct 2025) EndedAt: 2025-10-13 19:45:41 -0400 (Mon, 13 Oct 2025) EllapsedTime: 229.2 seconds RetCode: 0 Status: OK PackageFile: hermes_1.12.1.tar.gz PackageFileSize: 4.007 MiB