Package: hermes Version: 1.12.1 Command: /home/biocbuild/R/R/bin/R CMD INSTALL hermes StartedAt: 2025-10-13 20:40:45 -0000 (Mon, 13 Oct 2025) EndedAt: 2025-10-13 20:41:55 -0000 (Mon, 13 Oct 2025) EllapsedTime: 70.4 seconds RetCode: 0 Status: OK