Package: hermes Version: 1.12.1 Command: /home/biocbuild/R/R/bin/R CMD build --keep-empty-dirs --no-resave-data hermes StartedAt: 2025-10-14 01:35:56 -0000 (Tue, 14 Oct 2025) EndedAt: 2025-10-14 01:38:15 -0000 (Tue, 14 Oct 2025) EllapsedTime: 139.1 seconds RetCode: 0 Status: OK PackageFile: hermes_1.12.1.tar.gz PackageFileSize: 3.982 MiB