Package: hermes Version: 1.12.1 Command: /Library/Frameworks/R.framework/Resources/bin/R CMD INSTALL hermes StartedAt: 2025-10-13 16:21:58 -0400 (Mon, 13 Oct 2025) EndedAt: 2025-10-13 16:22:56 -0400 (Mon, 13 Oct 2025) EllapsedTime: 58.3 seconds RetCode: 0 Status: OK