Package: hermes Version: 1.12.1 Command: /Library/Frameworks/R.framework/Resources/bin/R CMD check --install=check:hermes.install-out.txt --library=/Library/Frameworks/R.framework/Resources/library --no-vignettes --timings hermes_1.12.1.tar.gz StartedAt: 2025-10-15 00:15:00 -0400 (Wed, 15 Oct 2025) EndedAt: 2025-10-15 00:23:51 -0400 (Wed, 15 Oct 2025) EllapsedTime: 531.2 seconds RetCode: 0 Status: OK CheckDir: hermes.Rcheck Warnings: 0