Package: hermes Version: 1.12.1 Command: /Library/Frameworks/R.framework/Resources/bin/R CMD build --keep-empty-dirs --no-resave-data hermes StartedAt: 2025-10-14 02:08:39 -0400 (Tue, 14 Oct 2025) EndedAt: 2025-10-14 02:10:47 -0400 (Tue, 14 Oct 2025) EllapsedTime: 128.5 seconds RetCode: 0 Status: OK PackageFile: hermes_1.12.1.tar.gz PackageFileSize: 4.007 MiB