Package: hermes Version: 1.12.1 Command: rm -rf hermes.buildbin-libdir && mkdir hermes.buildbin-libdir && /Users/biocbuild/BBS/utils/build-universal.sh hermes_1.12.1.tar.gz /Library/Frameworks/R.framework/Resources/bin/R hermes.buildbin-libdir StartedAt: 2025-10-15 18:50:22 -0400 (Wed, 15 Oct 2025) EndedAt: 2025-10-15 18:51:13 -0400 (Wed, 15 Oct 2025) EllapsedTime: 51.0 seconds RetCode: 0 Status: OK PackageFile: hermes_1.12.1.tgz PackageFileSize: 4.081 MiB