Package: hdxmsqc Version: 1.4.0 Command: chmod a+r hdxmsqc -R && E:\biocbuild\bbs-3.21-bioc\R\bin\R.exe CMD build --keep-empty-dirs --no-resave-data hdxmsqc StartedAt: 2025-08-14 19:38:52 -0400 (Thu, 14 Aug 2025) EndedAt: 2025-08-14 19:45:31 -0400 (Thu, 14 Aug 2025) EllapsedTime: 399.1 seconds RetCode: 0 Status: OK PackageFile: hdxmsqc_1.4.0.tar.gz PackageFileSize: 3.208 MiB