Package: hdxmsqc Version: 1.4.0 Command: /home/biocbuild/bbs-3.21-bioc/R/bin/R CMD check --install=check:hdxmsqc.install-out.txt --library=/home/biocbuild/bbs-3.21-bioc/R/site-library --timings hdxmsqc_1.4.0.tar.gz StartedAt: 2025-10-16 00:00:07 -0400 (Thu, 16 Oct 2025) EndedAt: 2025-10-16 00:07:54 -0400 (Thu, 16 Oct 2025) EllapsedTime: 466.6 seconds RetCode: 0 Status: OK CheckDir: hdxmsqc.Rcheck Warnings: 0