Package: hdxmsqc Version: 1.4.0 Command: /Library/Frameworks/R.framework/Resources/bin/R CMD INSTALL hdxmsqc StartedAt: 2025-10-13 16:04:12 -0400 (Mon, 13 Oct 2025) EndedAt: 2025-10-13 16:05:18 -0400 (Mon, 13 Oct 2025) EllapsedTime: 65.8 seconds RetCode: 0 Status: OK