Package: hdxmsqc Version: 1.4.0 Command: /Library/Frameworks/R.framework/Resources/bin/R CMD build --keep-empty-dirs --no-resave-data hdxmsqc StartedAt: 2025-10-13 19:40:04 -0400 (Mon, 13 Oct 2025) EndedAt: 2025-10-13 19:50:15 -0400 (Mon, 13 Oct 2025) EllapsedTime: 610.6 seconds RetCode: 0 Status: OK PackageFile: hdxmsqc_1.4.0.tar.gz PackageFileSize: 4.575 MiB