Package: hdxmsqc Version: 1.4.0 Command: rm -rf hdxmsqc.buildbin-libdir && mkdir hdxmsqc.buildbin-libdir && /Users/biocbuild/BBS/utils/build-universal.sh hdxmsqc_1.4.0.tar.gz /Library/Frameworks/R.framework/Resources/bin/R hdxmsqc.buildbin-libdir StartedAt: 2025-10-14 13:41:24 -0400 (Tue, 14 Oct 2025) EndedAt: 2025-10-14 13:43:26 -0400 (Tue, 14 Oct 2025) EllapsedTime: 121.2 seconds RetCode: 0 Status: OK PackageFile: hdxmsqc_1.4.0.tgz PackageFileSize: 4.679 MiB