Package: hdxmsqc Version: 1.4.0 Command: /home/biocbuild/R/R/bin/R CMD check --install=check:hdxmsqc.install-out.txt --library=/home/biocbuild/R/R/site-library --no-vignettes --timings hdxmsqc_1.4.0.tar.gz StartedAt: 2025-10-14 10:02:33 -0000 (Tue, 14 Oct 2025) EndedAt: 2025-10-14 10:09:37 -0000 (Tue, 14 Oct 2025) EllapsedTime: 424.2 seconds RetCode: 0 Status: OK CheckDir: hdxmsqc.Rcheck Warnings: 0