Package: hdxmsqc Version: 1.4.0 Command: /home/biocbuild/R/R/bin/R CMD build --keep-empty-dirs --no-resave-data hdxmsqc StartedAt: 2025-10-14 01:34:56 -0000 (Tue, 14 Oct 2025) EndedAt: 2025-10-14 01:40:51 -0000 (Tue, 14 Oct 2025) EllapsedTime: 354.9 seconds RetCode: 0 Status: OK PackageFile: hdxmsqc_1.4.0.tar.gz PackageFileSize: 4.36 MiB