Package: hdxmsqc Version: 1.4.0 Command: /Library/Frameworks/R.framework/Resources/bin/R CMD check --install=check:hdxmsqc.install-out.txt --library=/Library/Frameworks/R.framework/Resources/library --no-vignettes --timings hdxmsqc_1.4.0.tar.gz StartedAt: 2025-10-15 00:12:35 -0400 (Wed, 15 Oct 2025) EndedAt: 2025-10-15 00:17:39 -0400 (Wed, 15 Oct 2025) EllapsedTime: 303.5 seconds RetCode: 0 Status: OK CheckDir: hdxmsqc.Rcheck Warnings: 0