Package: hapFabia Version: 1.50.0 Command: /home/biocbuild/bbs-3.21-bioc/R/bin/R CMD check --install=check:hapFabia.install-out.txt --library=/home/biocbuild/bbs-3.21-bioc/R/site-library --timings hapFabia_1.50.0.tar.gz StartedAt: 2025-10-15 23:59:17 -0400 (Wed, 15 Oct 2025) EndedAt: 2025-10-16 00:00:26 -0400 (Thu, 16 Oct 2025) EllapsedTime: 69.1 seconds RetCode: 0 Status: WARNINGS CheckDir: hapFabia.Rcheck Warnings: 2