Package: gwasurvivr Version: 1.26.0 Command: /Library/Frameworks/R.framework/Resources/bin/R CMD INSTALL gwasurvivr StartedAt: 2025-04-21 15:22:46 -0400 (Mon, 21 Apr 2025) EndedAt: 2025-04-21 15:23:05 -0400 (Mon, 21 Apr 2025) EllapsedTime: 19.5 seconds RetCode: 0 Status: OK