Package: gwasurvivr Version: 1.26.0 Command: rm -rf gwasurvivr.buildbin-libdir && mkdir gwasurvivr.buildbin-libdir && /Users/biocbuild/BBS/utils/build-universal.sh gwasurvivr_1.26.0.tar.gz /Library/Frameworks/R.framework/Resources/bin/R gwasurvivr.buildbin-libdir StartedAt: 2025-04-21 22:37:51 -0400 (Mon, 21 Apr 2025) EndedAt: 2025-04-21 22:38:12 -0400 (Mon, 21 Apr 2025) EllapsedTime: 20.5 seconds RetCode: 0 Status: OK PackageFile: gwasurvivr_1.26.0.tgz PackageFileSize: 412.9 KiB