Package: gwascat Version: 2.40.0 Command: /Library/Frameworks/R.framework/Resources/bin/R CMD check --install=check:gwascat.install-out.txt --library=/Library/Frameworks/R.framework/Resources/library --no-vignettes --timings gwascat_2.40.0.tar.gz StartedAt: 2025-04-21 21:10:56 -0400 (Mon, 21 Apr 2025) EndedAt: 2025-04-21 21:19:45 -0400 (Mon, 21 Apr 2025) EllapsedTime: 529.6 seconds RetCode: 0 Status: OK CheckDir: gwascat.Rcheck Warnings: 0