Package: gwascat Version: 2.40.0 Command: /home/biocbuild/R/R/bin/R CMD check --install=check:gwascat.install-out.txt --library=/home/biocbuild/R/R/site-library --no-vignettes --timings gwascat_2.40.0.tar.gz StartedAt: 2025-10-14 09:59:37 -0000 (Tue, 14 Oct 2025) EndedAt: 2025-10-14 10:09:10 -0000 (Tue, 14 Oct 2025) EllapsedTime: 573.3 seconds RetCode: 0 Status: OK CheckDir: gwascat.Rcheck Warnings: 0