Package: gtrellis Version: 1.40.0 Command: /Library/Frameworks/R.framework/Resources/bin/R CMD check --install=check:gtrellis.install-out.txt --library=/Library/Frameworks/R.framework/Resources/library --no-vignettes --timings gtrellis_1.40.0.tar.gz StartedAt: 2025-10-14 04:53:56 -0400 (Tue, 14 Oct 2025) EndedAt: 2025-10-14 04:57:57 -0400 (Tue, 14 Oct 2025) EllapsedTime: 240.6 seconds RetCode: 0 Status: OK CheckDir: gtrellis.Rcheck Warnings: 0