Package: gtrellis Version: 1.40.0 Command: /Library/Frameworks/R.framework/Resources/bin/R CMD build --keep-empty-dirs --no-resave-data gtrellis StartedAt: 2025-10-13 19:36:26 -0400 (Mon, 13 Oct 2025) EndedAt: 2025-10-13 19:42:18 -0400 (Mon, 13 Oct 2025) EllapsedTime: 351.9 seconds RetCode: 0 Status: OK PackageFile: gtrellis_1.40.0.tar.gz PackageFileSize: 4.056 MiB