Package: gscreend Version: 1.22.0 Command: chmod a+r gscreend -R && E:\biocbuild\bbs-3.21-bioc\R\bin\R.exe CMD build --keep-empty-dirs --no-resave-data gscreend StartedAt: 2025-08-14 19:34:15 -0400 (Thu, 14 Aug 2025) EndedAt: 2025-08-14 19:36:59 -0400 (Thu, 14 Aug 2025) EllapsedTime: 163.2 seconds RetCode: 0 Status: OK PackageFile: gscreend_1.22.0.tar.gz PackageFileSize: 3.08 MiB