Package: gscreend Version: 1.22.0 Command: /Library/Frameworks/R.framework/Resources/bin/R CMD INSTALL gscreend StartedAt: 2025-10-13 16:08:41 -0400 (Mon, 13 Oct 2025) EndedAt: 2025-10-13 16:09:06 -0400 (Mon, 13 Oct 2025) EllapsedTime: 25.7 seconds RetCode: 0 Status: OK