Package: gpls Version: 1.80.0 Command: /home/biocbuild/R/R/bin/R CMD check --install=check:gpls.install-out.txt --library=/home/biocbuild/R/R/site-library --no-vignettes --timings gpls_1.80.0.tar.gz StartedAt: 2025-10-14 09:51:45 -0000 (Tue, 14 Oct 2025) EndedAt: 2025-10-14 09:52:04 -0000 (Tue, 14 Oct 2025) EllapsedTime: 19.0 seconds RetCode: 0 Status: WARNINGS CheckDir: gpls.Rcheck Warnings: 1