Package: gpls Version: 1.80.0 Command: /home/biocbuild/R/R/bin/R CMD build --keep-empty-dirs --no-resave-data gpls StartedAt: 2025-10-14 01:25:25 -0000 (Tue, 14 Oct 2025) EndedAt: 2025-10-14 01:25:35 -0000 (Tue, 14 Oct 2025) EllapsedTime: 10.0 seconds RetCode: 0 Status: OK PackageFile: gpls_1.80.0.tar.gz PackageFileSize: 226.3 KiB