Package: gpls Version: 1.80.0 Command: /Library/Frameworks/R.framework/Resources/bin/R CMD INSTALL gpls StartedAt: 2025-10-13 15:07:10 -0400 (Mon, 13 Oct 2025) EndedAt: 2025-10-13 15:07:13 -0400 (Mon, 13 Oct 2025) EllapsedTime: 3.0 seconds RetCode: 0 Status: OK