Package: gpls Version: 1.80.0 Command: /Library/Frameworks/R.framework/Resources/bin/R CMD check --install=check:gpls.install-out.txt --library=/Library/Frameworks/R.framework/Resources/library --no-vignettes --timings gpls_1.80.0.tar.gz StartedAt: 2025-10-14 23:44:57 -0400 (Tue, 14 Oct 2025) EndedAt: 2025-10-14 23:45:24 -0400 (Tue, 14 Oct 2025) EllapsedTime: 26.6 seconds RetCode: 0 Status: WARNINGS CheckDir: gpls.Rcheck Warnings: 1