Package: gpls Version: 1.80.0 Command: /Library/Frameworks/R.framework/Resources/bin/R CMD build --keep-empty-dirs --no-resave-data gpls StartedAt: 2025-10-14 01:38:04 -0400 (Tue, 14 Oct 2025) EndedAt: 2025-10-14 01:38:20 -0400 (Tue, 14 Oct 2025) EllapsedTime: 16.1 seconds RetCode: 0 Status: OK PackageFile: gpls_1.80.0.tar.gz PackageFileSize: 233.3 KiB